BEGIN:VCALENDAR
VERSION:2.0
PRODID:-//Innovation for Sustainable Energy - ECPv6.1.3//NONSGML v1.0//EN
CALSCALE:GREGORIAN
METHOD:PUBLISH
X-WR-CALNAME:Innovation for Sustainable Energy
X-ORIGINAL-URL:https://hub.wsu.edu/ise
X-WR-CALDESC:Events for Innovation for Sustainable Energy
REFRESH-INTERVAL;VALUE=DURATION:PT1H
X-Robots-Tag:noindex
X-PUBLISHED-TTL:PT1H
BEGIN:VTIMEZONE
TZID:America/Los_Angeles
BEGIN:DAYLIGHT
TZOFFSETFROM:-0800
TZOFFSETTO:-0700
TZNAME:PDT
DTSTART:20160313T100000
END:DAYLIGHT
BEGIN:STANDARD
TZOFFSETFROM:-0700
TZOFFSETTO:-0800
TZNAME:PST
DTSTART:20161106T090000
END:STANDARD
END:VTIMEZONE
BEGIN:VEVENT
DTSTART;TZID=America/Los_Angeles:20161013T153000
DTEND;TZID=America/Los_Angeles:20161013T163000
DTSTAMP:20260420T194845
CREATED:20160923T001724Z
LAST-MODIFIED:20161006T230749Z
UID:4597-1476372600-1476376200@hub.wsu.edu
SUMMARY:ISE General Meeting Time
DESCRIPTION:Time for a group standup meeting as well as announcements to the entire club.
URL:https://hub.wsu.edu/ise/event/ise-general-meeting-time-2016-10-13/2016-10-13/
LOCATION:TFRB 108C (Design)\, 955 NE Oak St\, Pullman\, WA\, 99164\, United States
ORGANIZER;CN="Elijah%20Shoemake":MAILTO:elijah.shoemake@wsu.edu
GEO:46.7310153;-117.1702844
X-APPLE-STRUCTURED-LOCATION;VALUE=URI;X-ADDRESS=TFRB 108C (Design) 955 NE Oak St Pullman WA 99164 United States;X-APPLE-RADIUS=500;X-TITLE=955 NE Oak St:geo:-117.1702844,46.7310153
END:VEVENT
BEGIN:VEVENT
DTSTART;TZID=America/Los_Angeles:20160922T150000
DTEND;TZID=America/Los_Angeles:20160922T160000
DTSTAMP:20260420T194845
CREATED:20160923T001723Z
LAST-MODIFIED:20160923T002124Z
UID:4593-1474556400-1474560000@hub.wsu.edu
SUMMARY:ISE General Meeting Time
DESCRIPTION:Time for a group standup meeting as well as announcements to the entire club.
URL:https://hub.wsu.edu/ise/event/ise-general-meeting-time/2016-09-22/
LOCATION:TFRB 108C (Design)\, 955 NE Oak St\, Pullman\, WA\, 99164\, United States
ORGANIZER;CN="Elijah%20Shoemake":MAILTO:elijah.shoemake@wsu.edu
GEO:46.7310153;-117.1702844
X-APPLE-STRUCTURED-LOCATION;VALUE=URI;X-ADDRESS=TFRB 108C (Design) 955 NE Oak St Pullman WA 99164 United States;X-APPLE-RADIUS=500;X-TITLE=955 NE Oak St:geo:-117.1702844,46.7310153
END:VEVENT
BEGIN:VEVENT
DTSTART;TZID=America/Los_Angeles:20160220T120000
DTEND;TZID=America/Los_Angeles:20160220T130000
DTSTAMP:20260420T194845
CREATED:20160212T185537Z
LAST-MODIFIED:20160212T185537Z
UID:2984-1455969600-1455973200@hub.wsu.edu
SUMMARY:ISE General Meeting
DESCRIPTION:General Meeting times are Saturdays at noon in TFRB 108. \nGeneral Meeting Topics\nThe following are general topics for discussion at meetings. Other topics may come up as the semester progresses. \n\nISE RSO considerations – most weeks we won’t need to discuss anything\, but on occasion we will have to tackle an issue related to our WSU Registered Student Organization (RSO) status.\nISE Website – It’s a good opportunity to make or suggest changes to our website – this will be the key to getting more public support (aka. donations of money or equipment) and public/university goodwill/interest.\nGroup Progress – While everybody in each group doesn’t need to show up to each meeting\, at least one person from each group should show up. A quick ~5min or less talk on the week’s progress will allow everyone to keep track of what’s happening. This is a good opportunity to ask fellow groups and engineers for help or ideas.
URL:https://hub.wsu.edu/ise/event/ise-general-meeting/2016-02-20/
LOCATION:TFRB 108C (Design)\, 955 NE Oak St\, Pullman\, WA\, 99164\, United States
ORGANIZER;CN="Elijah%20Shoemake":MAILTO:elijah.shoemake@wsu.edu
GEO:46.7310153;-117.1702844
X-APPLE-STRUCTURED-LOCATION;VALUE=URI;X-ADDRESS=TFRB 108C (Design) 955 NE Oak St Pullman WA 99164 United States;X-APPLE-RADIUS=500;X-TITLE=955 NE Oak St:geo:-117.1702844,46.7310153
END:VEVENT
END:VCALENDAR